BEGIN:VCALENDAR
VERSION:2.0
PRODID:-//Meg Elison - ECPv5.1.2.1//NONSGML v1.0//EN
CALSCALE:GREGORIAN
METHOD:PUBLISH
X-WR-CALNAME:Meg Elison
X-ORIGINAL-URL:http://megelison.com
X-WR-CALDESC:Events for Meg Elison
BEGIN:VTIMEZONE
TZID:America/New_York
BEGIN:DAYLIGHT
TZOFFSETFROM:-0500
TZOFFSETTO:-0400
TZNAME:EDT
DTSTART:20220313T070000
END:DAYLIGHT
BEGIN:STANDARD
TZOFFSETFROM:-0400
TZOFFSETTO:-0500
TZNAME:EST
DTSTART:20221106T060000
END:STANDARD
END:VTIMEZONE
BEGIN:VEVENT
DTSTART;TZID=America/New_York:20221012T190000
DTEND;TZID=America/New_York:20221012T203000
DTSTAMP:20260419T200353
CREATED:20220627T155714Z
LAST-MODIFIED:20220627T155714Z
UID:1759-1665601200-1665606600@megelison.com
SUMMARY:Fantastic Fiction at KGB NYC
DESCRIPTION:First time reading at Ellen Datlow’s fabulous show at KGB in New York. Be there! \nLiked it? Take a second to support  on Patreon!\n\n	Related\n
URL:http://megelison.com/event/fantastic-fiction-at-kgb-nyc
LOCATION:KGB\, 85 E. 4th St\, New York\, NY\, 10003\, United States
END:VEVENT
END:VCALENDAR